BEGIN:VCALENDAR
VERSION:2.0
PRODID:SchoolNow
CALSCALE:GREGORIAN
BEGIN:VEVENT
UID:a9d12730-6e3b-11f0-827a-029cfcd0439f
DTSTAMP:20260120T175911Z
SUMMARY:Booster Club Meeting (1/21)
LOCATION:Room 3220
URL;VALUE=URI:https://www.albanyschools.org/athletics/calendar/8461487/boos
 ter-club-meeting-1-21
DTSTART:20260121T230000Z
DTEND:20260122T000000Z
END:VEVENT
END:VCALENDAR
