BEGIN:VCALENDAR
VERSION:2.0
PRODID:SchoolNow
CALSCALE:GREGORIAN
BEGIN:VEVENT
UID:cfceb632-6e3b-11f0-be2d-0ed31cca5a63
DTSTAMP:20260120T175920Z
SUMMARY:Booster Club Meeting (2/23)
LOCATION:Room 3220
URL;VALUE=URI:https://www.albanyschools.org/athletics/calendar/8461490/boos
 ter-club-meeting-2-23
DTSTART:20260223T230000Z
DTEND:20260224T000000Z
END:VEVENT
END:VCALENDAR
