BEGIN:VCALENDAR
VERSION:2.0
PRODID:SchoolNow
CALSCALE:GREGORIAN
BEGIN:VEVENT
UID:f101a9f4-6e3b-11f0-b400-029cfcd0439f
DTSTAMP:20260313T192713Z
SUMMARY:Booster Club Meeting (3/16)
LOCATION:Room 3220
URL;VALUE=URI:https://www.albanyschools.org/athletics/calendar/8461493/boos
 ter-club-meeting-3-16
DTSTART:20260316T220000Z
DTEND:20260316T230000Z
END:VEVENT
END:VCALENDAR
