BEGIN:VCALENDAR
VERSION:2.0
PRODID:SchoolNow
CALSCALE:GREGORIAN
BEGIN:VEVENT
UID:1052a7c2-6e3c-11f0-8464-02ae721671d9
DTSTAMP:20260320T182359Z
SUMMARY:Booster Club Meeting (4/20)
LOCATION:Room 3220
URL;VALUE=URI:https://www.albanyschools.org/athletics/calendar/8461496/boos
 ter-club-meeting-4-20
DTSTART:20260420T220000Z
DTEND:20260420T230000Z
END:VEVENT
END:VCALENDAR
