BEGIN:VCALENDAR
VERSION:2.0
PRODID:SchoolNow
CALSCALE:GREGORIAN
BEGIN:VEVENT
UID:28fa7eee-6e41-11f0-8307-0a58a9feac02
DTSTAMP:20250731T190418Z
SUMMARY:Homecoming football game vs. Colonie
LOCATION:Albany High stadium
URL;VALUE=URI:https://www.albanyschools.org/athletics/calendar/8461515/home
 coming-football-game-vs-colonie
DTSTART:20251011T183000Z
DTEND:20251011T200000Z
END:VEVENT
END:VCALENDAR
