BEGIN:VCALENDAR
VERSION:2.0
PRODID:SchoolNow
CALSCALE:GREGORIAN
BEGIN:VEVENT
UID:183c59b0-6e46-11f0-8d0f-0ed31cca5a63
DTSTAMP:20260206T173521Z
SUMMARY:ATHLETICS: registration begins for high school spring sports
URL;VALUE=URI:https://www.albanyschools.org/athletics/calendar/8461556/athl
 etics-registration-begins-for-high-school-spring-sports
DTSTART;VALUE=DATE:20260209
DTEND;VALUE=DATE:20260210
END:VEVENT
END:VCALENDAR
