BEGIN:VCALENDAR
VERSION:2.0
PRODID:SchoolNow
CALSCALE:GREGORIAN
BEGIN:VEVENT
UID:501d989e-6ef0-11f0-9c95-0e31a27fada3
DTSTAMP:20260414T172500Z
SUMMARY:ATHLETICS: registration begins for high school fall sports
URL;VALUE=URI:https://www.albanyschools.org/athletics/calendar/8463888/athl
 etics-registration-begins-for-high-school-fall-sports
DTSTART;VALUE=DATE:20260724
DTEND;VALUE=DATE:20260725
END:VEVENT
END:VCALENDAR
