BEGIN:VCALENDAR
VERSION:2.0
PRODID:SchoolNow
CALSCALE:GREGORIAN
BEGIN:VEVENT
UID:203a17f4-bb41-11f0-8cd6-0afff3d351ff
DTSTAMP:20251106T184803Z
SUMMARY:Varsity Athletic Awards Ceremony
LOCATION:Auditorium
URL;VALUE=URI:https://www.albanyschools.org/athletics/calendar/8781300/vars
 ity-athletic-awards-ceremony
DTSTART:20260602T220000Z
DTEND:20260602T230000Z
END:VEVENT
END:VCALENDAR
