BEGIN:VCALENDAR
VERSION:2.0
PRODID:SchoolNow
CALSCALE:GREGORIAN
BEGIN:VEVENT
UID:4b1d11b0-bb41-11f0-956e-0a58a9feac02
DTSTAMP:20251106T184915Z
SUMMARY:Athletics College Commitment Ceremony
LOCATION:Gymnasium
URL;VALUE=URI:https://www.albanyschools.org/athletics/calendar/8781303/athl
 etics-college-commitment-ceremony
DTSTART:20260602T200000Z
DTEND:20260602T210000Z
END:VEVENT
END:VCALENDAR
