BEGIN:VCALENDAR
VERSION:2.0
PRODID:SchoolNow
CALSCALE:GREGORIAN
BEGIN:VEVENT
UID:9bb568ee-db52-11f0-bdd2-0a58a9feac02
DTSTAMP:20251219T190156Z
SUMMARY:Winter sports photos: Jan. 14
URL;VALUE=URI:https://www.albanyschools.org/athletics/calendar/8825453/wint
 er-sports-photos-jan-14
DTSTART;VALUE=DATE:20260114
DTEND;VALUE=DATE:20260115
END:VEVENT
END:VCALENDAR
