BEGIN:VCALENDAR
VERSION:2.0
PRODID:SchoolNow
CALSCALE:GREGORIAN
BEGIN:VEVENT
UID:a83935f0-db52-11f0-9505-0a58a9feac02
DTSTAMP:20251219T190140Z
SUMMARY:Winter sports photos: Jan 10
URL;VALUE=URI:https://www.albanyschools.org/athletics/calendar/8825454/wint
 er-sports-photos-jan-10
DTSTART;VALUE=DATE:20260110
DTEND;VALUE=DATE:20260111
END:VEVENT
END:VCALENDAR
