BEGIN:VCALENDAR
VERSION:2.0
PRODID:SchoolNow
CALSCALE:GREGORIAN
BEGIN:VEVENT
UID:45fab954-08f7-11f1-9abf-0a58a9feac02
DTSTAMP:20260213T162614Z
SUMMARY:Spring sports physicals at Albany High (3/5)
LOCATION:Albany High room 1130
URL;VALUE=URI:https://www.albanyschools.org/athletics/calendar/8855017/spri
 ng-sports-physicals-at-albany-high-3-5-clone
DTSTART:20260305T153000Z
DTEND:20260305T163000Z
END:VEVENT
END:VCALENDAR
