BEGIN:VCALENDAR
VERSION:2.0
PRODID:SchoolNow
CALSCALE:GREGORIAN
BEGIN:VEVENT
UID:2223c81c-08f8-11f1-80f1-0e7efa62387f
DTSTAMP:20260213T162204Z
SUMMARY:Spring sports physicals for modified sports (3/17)
LOCATION:Stephen and Harriet Myers Middle School health office
URL;VALUE=URI:https://www.albanyschools.org/athletics/calendar/8855019/spri
 ng-sports-physicals-at-albany-high-3-4-clone
DTSTART:20260317T143000Z
DTEND:20260317T153000Z
END:VEVENT
END:VCALENDAR
