BEGIN:VCALENDAR
VERSION:2.0
PRODID:SchoolNow
CALSCALE:GREGORIAN
BEGIN:VEVENT
UID:5dd4b286-08f8-11f1-9b6f-0e7efa62387f
DTSTAMP:20260213T162344Z
SUMMARY:Spring sports physicals for modified sports (3/18)
LOCATION:William S. Hackett Middle School health office
URL;VALUE=URI:https://www.albanyschools.org/athletics/calendar/8855021/spri
 ng-sports-physicals-for-modified-sports-3-18
DTSTART:20260318T143000Z
DTEND:20260318T153000Z
END:VEVENT
END:VCALENDAR
