BEGIN:VCALENDAR
VERSION:2.0
PRODID:SchoolNow
CALSCALE:GREGORIAN
BEGIN:VEVENT
UID:8a27cd96-08f8-11f1-bccb-029de128f86f
DTSTAMP:20260213T162458Z
SUMMARY:Spring sports physicals for modified sports (3/19)
LOCATION:North Albany Middle School health office
URL;VALUE=URI:https://www.albanyschools.org/athletics/calendar/8855023/spri
 ng-sports-physicals-for-modified-sports-3-19
DTSTART:20260319T143000Z
DTEND:20260319T153000Z
END:VEVENT
END:VCALENDAR
