BEGIN:VCALENDAR
VERSION:2.0
PRODID:SchoolNow
CALSCALE:GREGORIAN
BEGIN:VEVENT
UID:200dc6c8-3a6b-11f1-bab1-0a58a9feac02
DTSTAMP:20260417T143908Z
SUMMARY:Spring Sports Photos (4/17 and 4/18)
URL;VALUE=URI:https://www.albanyschools.org/athletics/calendar/9000942/spri
 ng-sports-photos
DTSTART;VALUE=DATE:20260418
DTEND;VALUE=DATE:20260419
END:VEVENT
END:VCALENDAR
