BEGIN:VCALENDAR
VERSION:2.0
PRODID:SchoolNow
CALSCALE:GREGORIAN
BEGIN:VEVENT
UID:d0ff750a-e8dd-11ec-8ab5-026087ad0a89
DTSTAMP:20221004T192034Z
SUMMARY:Public Board of Education meeting (10/20)
DESCRIPTION:Anticipated executive session at 5:30 p.m.
LOCATION:Harriet Gibbons Student Services Center\, 75 Watervliet Ave.
URL;VALUE=URI:https://www.albanyschools.org/boe/calendar/3217058/public-boa
 rd-of-education-meeting-10-20
DTSTART:20221020T223000Z
DTEND:20221021T003000Z
END:VEVENT
END:VCALENDAR
