BEGIN:VCALENDAR
VERSION:2.0
PRODID:SchoolNow
CALSCALE:GREGORIAN
BEGIN:VEVENT
UID:d1001dac-e8dd-11ec-84e8-026087ad0a89
DTSTAMP:20230614T164130Z
SUMMARY:Public Board of Education meeting (6/15)
DESCRIPTION:Anticipated executive session at 5:30 p.m.
LOCATION:Harriet Gibbons Student Services Center\, 75 Watervliet Ave.
URL;VALUE=URI:https://www.albanyschools.org/boe/calendar/3217092/public-boa
 rd-of-education-meeting-6-15
DTSTART:20230615T223000Z
DTEND:20230616T003000Z
END:VEVENT
END:VCALENDAR
