BEGIN:VCALENDAR
VERSION:2.0
PRODID:SchoolNow
CALSCALE:GREGORIAN
BEGIN:VEVENT
UID:d1006942-e8dd-11ec-9758-026087ad0a89
DTSTAMP:20230612T153644Z
SUMMARY:Board Policy Committee meeting (6/13)
LOCATION:Harriet Gibbons Student Services Center\, 75 Watervliet Ave.
URL;VALUE=URI:https://www.albanyschools.org/boe/calendar/3217104/board-poli
 cy-committee-meeting-6-7
DTSTART:20230613T213000Z
DTEND:20230613T233000Z
END:VEVENT
END:VCALENDAR
