BEGIN:VCALENDAR
VERSION:2.0
PRODID:SchoolNow
CALSCALE:GREGORIAN
BEGIN:VEVENT
UID:d1008d0a-e8dd-11ec-8619-026087ad0a89
DTSTAMP:20230227T140653Z
SUMMARY:Board Government Relations Committee meeting (3/6)
LOCATION:1 Academy Park
URL;VALUE=URI:https://www.albanyschools.org/boe/calendar/3217112/board-gove
 rnment-relations-committee-meeting-3-6
DTSTART:20230306T223000Z
DTEND:20230307T003000Z
END:VEVENT
END:VCALENDAR
