BEGIN:VCALENDAR
VERSION:2.0
PRODID:SchoolNow
CALSCALE:GREGORIAN
BEGIN:VEVENT
UID:d100ce1e-e8dd-11ec-8525-026087ad0a89
DTSTAMP:20230605T130937Z
SUMMARY:Board Facilities Committee meeting (6/13)
LOCATION:Harriet Gibbons Student Services Center\, 75 Watervliet Ave.
URL;VALUE=URI:https://www.albanyschools.org/boe/calendar/3217124/board-faci
 lities-committee-meeting-6-13
DTSTART:20230613T214500Z
DTEND:20230613T234500Z
END:VEVENT
END:VCALENDAR
