BEGIN:VCALENDAR
VERSION:2.0
PRODID:SchoolNow
CALSCALE:GREGORIAN
BEGIN:VEVENT
UID:ba41af40-09f2-11ee-b1a7-0e02a06a3f21
DTSTAMP:20230613T140100Z
SUMMARY:Charter school public hearing (6-15)
LOCATION:Harriet Gibbons Media Center\, 75 Watervliet Ave.
URL;VALUE=URI:https://www.albanyschools.org/boe/calendar/4383315/charter-sc
 hool-public-hearing
DTSTART:20230615T213000Z
DTEND:20230615T220000Z
END:VEVENT
END:VCALENDAR
