BEGIN:VCALENDAR
VERSION:2.0
PRODID:SchoolNow
CALSCALE:GREGORIAN
BEGIN:VEVENT
UID:b358dd02-1456-11ee-a526-025370c22e91
DTSTAMP:20230627T171636Z
SUMMARY:Public Board of Education meeting (6/29)
DESCRIPTION:Anticipated executive session to follow the public session.
LOCATION:Harriet Gibbons Student Services Center\, 75 Watervliet Ave.
URL;VALUE=URI:https://www.albanyschools.org/boe/calendar/4439070/public-boa
 rd-of-education-meeting-6-29
DTSTART:20230629T213000Z
DTEND:20230629T224500Z
END:VEVENT
END:VCALENDAR
