BEGIN:VCALENDAR
VERSION:2.0
PRODID:SchoolNow
CALSCALE:GREGORIAN
BEGIN:VEVENT
UID:26b10460-1c30-11ee-903c-0a0dffa2a585
DTSTAMP:20230713T165510Z
SUMMARY:Public Board of Education meeting (7/13)
LOCATION:Harriet Gibbons Student Services Center\, 75 Watervliet Ave.
URL;VALUE=URI:https://www.albanyschools.org/boe/calendar/4475453/public-boa
 rd-of-education-meeting-7-13
DTSTART:20230713T223000Z
DTEND:20230713T233000Z
END:VEVENT
END:VCALENDAR
