BEGIN:VCALENDAR
VERSION:2.0
PRODID:SchoolNow
CALSCALE:GREGORIAN
BEGIN:VEVENT
UID:26b124e0-1c30-11ee-9155-0a0dffa2a585
DTSTAMP:20230809T160858Z
SUMMARY:Public Board of Education meeting (8/10)
DESCRIPTION:Anticipated executive session at 5:30 p.m.
LOCATION:Harriet Gibbons Student Services Center\, 75 Watervliet Ave.
URL;VALUE=URI:https://www.albanyschools.org/boe/calendar/4475457/public-boa
 rd-of-education-meeting-8-10
DTSTART:20230810T223000Z
DTEND:20230810T233000Z
END:VEVENT
END:VCALENDAR
