BEGIN:VCALENDAR
VERSION:2.0
PRODID:SchoolNow
CALSCALE:GREGORIAN
BEGIN:VEVENT
UID:26b135c0-1c30-11ee-82c7-0a0dffa2a585
DTSTAMP:20230920T113903Z
SUMMARY:Public Board of Education meeting (9/21)
DESCRIPTION:Anticipated executive session at 5:30 p.m.
LOCATION:Harriet Gibbons Student Services Center\, 75 Watervliet Ave.
URL;VALUE=URI:https://www.albanyschools.org/boe/calendar/4475461/public-boa
 rd-of-education-meeting-9-21
DTSTART:20230921T223000Z
DTEND:20230921T233000Z
END:VEVENT
END:VCALENDAR
