BEGIN:VCALENDAR
VERSION:2.0
PRODID:SchoolNow
CALSCALE:GREGORIAN
BEGIN:VEVENT
UID:26b13c28-1c30-11ee-960a-0a0dffa2a585
DTSTAMP:20231004T134656Z
SUMMARY:Public Board of Education meeting (10/5)
DESCRIPTION:Anticipated executive session at 5:30 p.m.
LOCATION:Harriet Gibbons Student Services Center\, 75 Watervliet Ave.
URL;VALUE=URI:https://www.albanyschools.org/boe/calendar/4475463/public-boa
 rd-of-education-meeting-10-5
DTSTART:20231005T223000Z
DTEND:20231005T233000Z
END:VEVENT
END:VCALENDAR
