BEGIN:VCALENDAR
VERSION:2.0
PRODID:SchoolNow
CALSCALE:GREGORIAN
BEGIN:VEVENT
UID:26b148bc-1c30-11ee-ba41-0a0dffa2a585
DTSTAMP:20231019T180929Z
SUMMARY:Public Board of Education meeting (10/19)
DESCRIPTION:Anticipated executive session at 5:30 p.m.
LOCATION:Harriet Gibbons Student Services Center\, 75 Watervliet Ave.
URL;VALUE=URI:https://www.albanyschools.org/boe/calendar/4475465/public-boa
 rd-of-education-meeting-10-19
DTSTART:20231019T223000Z
DTEND:20231019T233000Z
END:VEVENT
END:VCALENDAR
