BEGIN:VCALENDAR
VERSION:2.0
PRODID:SchoolNow
CALSCALE:GREGORIAN
BEGIN:VEVENT
UID:26b151c2-1c30-11ee-988a-0a0dffa2a585
DTSTAMP:20231031T200125Z
SUMMARY:Public Board of Education meeting (11/2)
DESCRIPTION:Anticipated executive session at 5:30 p.m.
LOCATION:Harriet Gibbons Student Services Center\, 75 Watervliet Ave.
URL;VALUE=URI:https://www.albanyschools.org/boe/calendar/4475467/public-boa
 rd-of-education-meeting-11-2
DTSTART:20231102T223000Z
DTEND:20231102T233000Z
END:VEVENT
END:VCALENDAR
