BEGIN:VCALENDAR
VERSION:2.0
PRODID:SchoolNow
CALSCALE:GREGORIAN
BEGIN:VEVENT
UID:26b1599c-1c30-11ee-aed6-0a0dffa2a585
DTSTAMP:20231115T154757Z
SUMMARY:Public Board of Education meeting (11/16)
DESCRIPTION:Anticipated executive session at 5:30 p.m.
LOCATION:Harriet Gibbons Student Services Center\, 75 Watervliet Ave.
URL;VALUE=URI:https://www.albanyschools.org/boe/calendar/4475469/public-boa
 rd-of-education-meeting-11-16
DTSTART:20231116T233000Z
DTEND:20231117T003000Z
END:VEVENT
END:VCALENDAR
