BEGIN:VCALENDAR
VERSION:2.0
PRODID:SchoolNow
CALSCALE:GREGORIAN
BEGIN:VEVENT
UID:26b15fb4-1c30-11ee-9ea6-0a0dffa2a585
DTSTAMP:20231205T213219Z
SUMMARY:Public Board of Education meeting (12/7)
DESCRIPTION:Anticipated executive session at 5:30 p.m.
LOCATION:Harriet Gibbons Student Services Center\, 75 Watervliet Ave.
URL;VALUE=URI:https://www.albanyschools.org/boe/calendar/4475471/public-boa
 rd-of-education-meeting-12-7
DTSTART:20231207T233000Z
DTEND:20231208T003000Z
END:VEVENT
END:VCALENDAR
