BEGIN:VCALENDAR
VERSION:2.0
PRODID:SchoolNow
CALSCALE:GREGORIAN
BEGIN:VEVENT
UID:26b165a4-1c30-11ee-86fb-0a0dffa2a585
DTSTAMP:20231220T121444Z
SUMMARY:Public Board of Education meeting (12/21)
DESCRIPTION:Anticipated executive session at 5:30 p.m.
LOCATION:Harriet Gibbons Student Services Center\, 75 Watervliet Ave.
URL;VALUE=URI:https://www.albanyschools.org/boe/calendar/4475473/public-boa
 rd-of-education-meeting-12-21
DTSTART:20231221T233000Z
DTEND:20231222T003000Z
END:VEVENT
END:VCALENDAR
