BEGIN:VCALENDAR
VERSION:2.0
PRODID:SchoolNow
CALSCALE:GREGORIAN
BEGIN:VEVENT
UID:26b16bc6-1c30-11ee-b1e1-0a0dffa2a585
DTSTAMP:20240118T174823Z
SUMMARY:Public Board of Education meeting (1/18)
DESCRIPTION:Anticipated executive session at 5:30 p.m.
LOCATION:Harriet Gibbons Student Services Center\, 75 Watervliet Ave.
URL;VALUE=URI:https://www.albanyschools.org/boe/calendar/4475475/public-boa
 rd-of-education-meeting-1-18
DTSTART:20240118T233000Z
DTEND:20240119T003000Z
END:VEVENT
END:VCALENDAR
