BEGIN:VCALENDAR
VERSION:2.0
PRODID:SchoolNow
CALSCALE:GREGORIAN
BEGIN:VEVENT
UID:26b177ec-1c30-11ee-8ad7-0a0dffa2a585
DTSTAMP:20240215T135822Z
SUMMARY:Public Board of Education meeting (2/15)
DESCRIPTION:Anticipated executive session at 5:30 p.m.
LOCATION:Harriet Gibbons Student Services Center\, 75 Watervliet Ave.
URL;VALUE=URI:https://www.albanyschools.org/boe/calendar/4475479/public-boa
 rd-of-education-meeting-2-15
DTSTART:20240216T003000Z
DTEND:20240216T013000Z
END:VEVENT
END:VCALENDAR
