BEGIN:VCALENDAR
VERSION:2.0
PRODID:SchoolNow
CALSCALE:GREGORIAN
BEGIN:VEVENT
UID:26b17e0e-1c30-11ee-ad3c-0a0dffa2a585
DTSTAMP:20240306T185505Z
SUMMARY:Public Board of Education meeting (3/7)
DESCRIPTION:Anticipated executive session at 5:30 p.m.
LOCATION:Harriet Gibbons Student Services Center\, 75 Watervliet Ave.
URL;VALUE=URI:https://www.albanyschools.org/boe/calendar/4475481/public-boa
 rd-of-education-meeting-3-7
DTSTART:20240307T233000Z
DTEND:20240308T003000Z
END:VEVENT
END:VCALENDAR
