BEGIN:VCALENDAR
VERSION:2.0
PRODID:SchoolNow
CALSCALE:GREGORIAN
BEGIN:VEVENT
UID:26b18426-1c30-11ee-af80-0a0dffa2a585
DTSTAMP:20240320T105905Z
SUMMARY:Public Board of Education meeting (3/21)
DESCRIPTION:Anticipated executive session at 5:30 p.m.
LOCATION:Harriet Gibbons Student Services Center\, 75 Watervliet Ave.
URL;VALUE=URI:https://www.albanyschools.org/boe/calendar/4475483/public-boa
 rd-of-education-meeting-3-21
DTSTART:20240321T223000Z
DTEND:20240321T233000Z
END:VEVENT
END:VCALENDAR
