BEGIN:VCALENDAR
VERSION:2.0
PRODID:SchoolNow
CALSCALE:GREGORIAN
BEGIN:VEVENT
UID:26b18a2a-1c30-11ee-9007-0a0dffa2a585
DTSTAMP:20240411T124933Z
SUMMARY:Public Board of Education meeting (4/11)
DESCRIPTION:Anticipated executive session at 5:30 p.m.
LOCATION:Harriet Gibbons Student Services Center\, 75 Watervliet Ave.
URL;VALUE=URI:https://www.albanyschools.org/boe/calendar/4475485/public-boa
 rd-of-education-meeting-4-11
DTSTART:20240411T223000Z
DTEND:20240412T013000Z
END:VEVENT
END:VCALENDAR
