BEGIN:VCALENDAR
VERSION:2.0
PRODID:SchoolNow
CALSCALE:GREGORIAN
BEGIN:VEVENT
UID:26b19074-1c30-11ee-93b7-0a0dffa2a585
DTSTAMP:20240417T105858Z
SUMMARY:Public Board of Education meeting (4/18)
DESCRIPTION:Anticipated executive session at 5:30 p.m.
LOCATION:Harriet Gibbons Student Services Center\, 75 Watervliet Ave.
URL;VALUE=URI:https://www.albanyschools.org/boe/calendar/4475487/public-boa
 rd-of-education-meeting-4-18
DTSTART:20240418T223000Z
DTEND:20240418T233000Z
END:VEVENT
END:VCALENDAR
