BEGIN:VCALENDAR
VERSION:2.0
PRODID:SchoolNow
CALSCALE:GREGORIAN
BEGIN:VEVENT
UID:26b196be-1c30-11ee-b154-0a0dffa2a585
DTSTAMP:20240501T162755Z
SUMMARY:Public Board of Education meeting (5/2)
DESCRIPTION:Anticipated executive session at 5:30 p.m.
LOCATION:Harriet Gibbons Student Services Center\, 75 Watervliet Ave.
URL;VALUE=URI:https://www.albanyschools.org/boe/calendar/4475489/public-boa
 rd-of-education-meeting-5-2
DTSTART:20240502T223000Z
DTEND:20240502T233000Z
END:VEVENT
END:VCALENDAR
