BEGIN:VCALENDAR
VERSION:2.0
PRODID:SchoolNow
CALSCALE:GREGORIAN
BEGIN:VEVENT
UID:26b19cb8-1c30-11ee-9a28-0a0dffa2a585
DTSTAMP:20240515T104131Z
SUMMARY:Public Board of Education meeting (5/16)
DESCRIPTION:Anticipated executive session at 5:30 p.m.
LOCATION:Harriet Gibbons Student Services Center\, 75 Watervliet Ave.
URL;VALUE=URI:https://www.albanyschools.org/boe/calendar/4475491/public-boa
 rd-of-education-meeting-5-16
DTSTART:20240516T230000Z
DTEND:20240517T010000Z
END:VEVENT
END:VCALENDAR
