BEGIN:VCALENDAR
VERSION:2.0
PRODID:SchoolNow
CALSCALE:GREGORIAN
BEGIN:VEVENT
UID:26b1a29e-1c30-11ee-9e24-0a0dffa2a585
DTSTAMP:20230706T190602Z
SUMMARY:School Budget Vote and Board Election
LOCATION:Harriet Gibbons Student Services Center\, 75 Watervliet Ave.
URL;VALUE=URI:https://www.albanyschools.org/boe/calendar/4475493/school-bud
 get-vote-and-board-election
DTSTART:20240521T110000Z
DTEND:20240522T010000Z
END:VEVENT
END:VCALENDAR
