BEGIN:VCALENDAR
VERSION:2.0
PRODID:SchoolNow
CALSCALE:GREGORIAN
BEGIN:VEVENT
UID:26b1a8a2-1c30-11ee-82fd-0a0dffa2a585
DTSTAMP:20240520T161520Z
SUMMARY:Board of Education special meeting - Certification of vote canvass
LOCATION:Harriet Gibbons Student Services Center\, 75 Watervliet Ave.
URL;VALUE=URI:https://www.albanyschools.org/boe/calendar/4475495/board-of-e
 ducation-special-meeting-certification-of-vote-canvass
DTSTART:20240523T223000Z
DTEND:20240523T233000Z
END:VEVENT
END:VCALENDAR
