BEGIN:VCALENDAR
VERSION:2.0
PRODID:SchoolNow
CALSCALE:GREGORIAN
BEGIN:VEVENT
UID:26b1aec4-1c30-11ee-bea6-0a0dffa2a585
DTSTAMP:20240605T111353Z
SUMMARY:Public Board of Education meeting (6/6)
DESCRIPTION:Anticipated executive session at 5:30 p.m.
LOCATION:Harriet Gibbons Student Services Center\, 75 Watervliet Ave.
URL;VALUE=URI:https://www.albanyschools.org/boe/calendar/4475497/public-boa
 rd-of-education-meeting-6-6
DTSTART:20240606T223000Z
DTEND:20240606T233000Z
END:VEVENT
END:VCALENDAR
