BEGIN:VCALENDAR
VERSION:2.0
PRODID:SchoolNow
CALSCALE:GREGORIAN
BEGIN:VEVENT
UID:26b1b4be-1c30-11ee-afd2-0a0dffa2a585
DTSTAMP:20240620T124332Z
SUMMARY:Public Board of Education meeting (6/20)
DESCRIPTION:Anticipated executive session at 5:30 p.m.
LOCATION:Harriet Gibbons Student Services Center\, 75 Watervliet Ave.
URL;VALUE=URI:https://www.albanyschools.org/boe/calendar/4475499/public-boa
 rd-of-education-meeting-6-20
DTSTART:20240620T223000Z
DTEND:20240620T233000Z
END:VEVENT
END:VCALENDAR
