BEGIN:VCALENDAR
VERSION:2.0
PRODID:SchoolNow
CALSCALE:GREGORIAN
BEGIN:VEVENT
UID:26b1ba90-1c30-11ee-b2dd-0a0dffa2a585
DTSTAMP:20230706T190602Z
SUMMARY:Board Policy Committee meeting (7/19)
LOCATION:Harriet Gibbons Student Services Center\, 75 Watervliet Ave.
URL;VALUE=URI:https://www.albanyschools.org/boe/calendar/4475501/board-poli
 cy-committee-meeting-7-19
DTSTART:20230719T213000Z
DTEND:20230719T233000Z
END:VEVENT
END:VCALENDAR
