BEGIN:VCALENDAR
VERSION:2.0
PRODID:SchoolNow
CALSCALE:GREGORIAN
BEGIN:VEVENT
UID:26b1beb4-1c30-11ee-b2fe-0a0dffa2a585
DTSTAMP:20230706T190602Z
SUMMARY:Board Policy Committee meeting (8/16)
LOCATION:Harriet Gibbons Student Services Center\, 75 Watervliet Ave.
URL;VALUE=URI:https://www.albanyschools.org/boe/calendar/4475502/board-poli
 cy-committee-meeting-8-16
DTSTART:20230816T213000Z
DTEND:20230816T233000Z
END:VEVENT
END:VCALENDAR
