BEGIN:VCALENDAR
VERSION:2.0
PRODID:SchoolNow
CALSCALE:GREGORIAN
BEGIN:VEVENT
UID:26b1c2b0-1c30-11ee-add0-0a0dffa2a585
DTSTAMP:20230706T190602Z
SUMMARY:Board Policy Committee meeting (9/13)
LOCATION:Harriet Gibbons Student Services Center\, 75 Watervliet Ave.
URL;VALUE=URI:https://www.albanyschools.org/boe/calendar/4475503/board-poli
 cy-committee-meeting-9-13
DTSTART:20230913T213000Z
DTEND:20230913T233000Z
END:VEVENT
END:VCALENDAR
