BEGIN:VCALENDAR
VERSION:2.0
PRODID:SchoolNow
CALSCALE:GREGORIAN
BEGIN:VEVENT
UID:26b1cd82-1c30-11ee-89cb-0a0dffa2a585
DTSTAMP:20230706T190602Z
SUMMARY:Board Policy Committee meeting (11/8)
LOCATION:Harriet Gibbons Student Services Center\, 75 Watervliet Ave.
URL;VALUE=URI:https://www.albanyschools.org/boe/calendar/4475505/board-poli
 cy-committee-meeting-11-8
DTSTART:20231108T223000Z
DTEND:20231109T003000Z
END:VEVENT
END:VCALENDAR
