BEGIN:VCALENDAR
VERSION:2.0
PRODID:SchoolNow
CALSCALE:GREGORIAN
BEGIN:VEVENT
UID:26b1d174-1c30-11ee-84aa-0a0dffa2a585
DTSTAMP:20230706T190602Z
SUMMARY:Board Policy Committee meeting (12/13)
LOCATION:Harriet Gibbons Student Services Center\, 75 Watervliet Ave.
URL;VALUE=URI:https://www.albanyschools.org/boe/calendar/4475506/board-poli
 cy-committee-meeting-12-13
DTSTART:20231213T223000Z
DTEND:20231214T003000Z
END:VEVENT
END:VCALENDAR
