BEGIN:VCALENDAR
VERSION:2.0
PRODID:SchoolNow
CALSCALE:GREGORIAN
BEGIN:VEVENT
UID:26b1d5a2-1c30-11ee-80f3-0a0dffa2a585
DTSTAMP:20230706T190602Z
SUMMARY:Board Policy Committee meeting (1/10)
LOCATION:Harriet Gibbons Student Services Center\, 75 Watervliet Ave.
URL;VALUE=URI:https://www.albanyschools.org/boe/calendar/4475507/board-poli
 cy-committee-meeting-1-10
DTSTART:20240110T223000Z
DTEND:20240111T003000Z
END:VEVENT
END:VCALENDAR
